BEGIN:VCALENDAR
VERSION:2.0
PRODID:icalendar-ruby
CALSCALE:GREGORIAN
METHOD:PUBLISH
BEGIN:VEVENT
DTSTAMP:20260419T141557Z
UID:15-1293763@calvarynorth.church
DTSTART:20260726T170000Z
DTEND:20260726T180000Z
CLASS:PUBLIC
CREATED:20260419T062436
DESCRIPTION:Sunday Service
LAST-MODIFIED:20260419T062436
LOCATION:14201 N. 32nd Street Phoenix\, AZ 85032
SUMMARY:Sunday Service
URL;VALUE=URI:https://calvarynorth.church/events/sunday-service/2026-07-26
END:VEVENT
END:VCALENDAR
