BEGIN:VCALENDAR
VERSION:2.0
PRODID:icalendar-ruby
CALSCALE:GREGORIAN
METHOD:PUBLISH
BEGIN:VEVENT
DTSTAMP:20260419T171855Z
UID:15-1293968@calvarynorth.church
DTSTART:20260809T170000Z
DTEND:20260809T180000Z
CLASS:PUBLIC
CREATED:20260419T100640
DESCRIPTION:Sunday Service
LAST-MODIFIED:20260419T100640
LOCATION:14201 N. 32nd Street Phoenix\, AZ 85032
SUMMARY:Sunday Service
URL;VALUE=URI:https://calvarynorth.church/events/sunday-service/2026-08-09
END:VEVENT
END:VCALENDAR
