BEGIN:VCALENDAR
VERSION:2.0
PRODID:icalendar-ruby
CALSCALE:GREGORIAN
METHOD:PUBLISH
BEGIN:VEVENT
DTSTAMP:20260420T024141Z
UID:15-1294385@calvarynorth.church
DTSTART:20260920T170000Z
DTEND:20260920T180000Z
CLASS:PUBLIC
CREATED:20260419T173053
DESCRIPTION:Sunday Service
LAST-MODIFIED:20260419T173053
LOCATION:14201 N. 32nd Street Phoenix\, AZ 85032
SUMMARY:Sunday Service
URL;VALUE=URI:https://calvarynorth.church/events/sunday-service/2026-09-20
END:VEVENT
END:VCALENDAR
