BEGIN:VCALENDAR
VERSION:2.0
PRODID:icalendar-ruby
CALSCALE:GREGORIAN
METHOD:PUBLISH
BEGIN:VEVENT
DTSTAMP:20260422T145101Z
UID:18-1297504@calvarynorth.church
DTSTART:20260924T020000Z
DTEND:20260924T031500Z
CLASS:PUBLIC
CREATED:20260422T053943
DESCRIPTION:Join us Wednesday night for worship and a Bible study through t
 he book of Revelation.  Awana's for kids 4-12 years old and youth group f
 or teens!  Bring the whole family!
LAST-MODIFIED:20260422T053943
LOCATION:Calvary North
SUMMARY:Wednesday Night Bible Study
URL;VALUE=URI:https://calvarynorth.church/events/wednesday-night-bible-stud
 y/2026-09-23
ATTACH;FILENAME=revelation.PNG;FMTTYPE=image/png:https://dq5pwpg1q8ru0.clou
 dfront.net/2025/09/02/02/55/21/e4aa8e3f-8d4c-48dc-bd7a-1567e58f9c2c/revela
 tion.PNG
END:VEVENT
END:VCALENDAR
